BEGIN:VCALENDAR
VERSION:2.0
PRODID:-//Bandon Events - ECPv6.15.20//NONSGML v1.0//EN
CALSCALE:GREGORIAN
METHOD:PUBLISH
X-ORIGINAL-URL:https://bandonevents.org
X-WR-CALDESC:Events for Bandon Events
REFRESH-INTERVAL;VALUE=DURATION:PT1H
X-Robots-Tag:noindex
X-PUBLISHED-TTL:PT1H
BEGIN:VTIMEZONE
TZID:America/Los_Angeles
BEGIN:DAYLIGHT
TZOFFSETFROM:-0800
TZOFFSETTO:-0700
TZNAME:PDT
DTSTART:20180311T100000
END:DAYLIGHT
BEGIN:STANDARD
TZOFFSETFROM:-0700
TZOFFSETTO:-0800
TZNAME:PST
DTSTART:20181104T090000
END:STANDARD
BEGIN:DAYLIGHT
TZOFFSETFROM:-0800
TZOFFSETTO:-0700
TZNAME:PDT
DTSTART:20190310T100000
END:DAYLIGHT
BEGIN:STANDARD
TZOFFSETFROM:-0700
TZOFFSETTO:-0800
TZNAME:PST
DTSTART:20191103T090000
END:STANDARD
BEGIN:DAYLIGHT
TZOFFSETFROM:-0800
TZOFFSETTO:-0700
TZNAME:PDT
DTSTART:20200308T100000
END:DAYLIGHT
BEGIN:STANDARD
TZOFFSETFROM:-0700
TZOFFSETTO:-0800
TZNAME:PST
DTSTART:20201101T090000
END:STANDARD
BEGIN:DAYLIGHT
TZOFFSETFROM:-0800
TZOFFSETTO:-0700
TZNAME:PDT
DTSTART:20210314T100000
END:DAYLIGHT
BEGIN:STANDARD
TZOFFSETFROM:-0700
TZOFFSETTO:-0800
TZNAME:PST
DTSTART:20211107T090000
END:STANDARD
END:VTIMEZONE
BEGIN:VEVENT
DTSTART;TZID=America/Los_Angeles:20200309T171500
DTEND;TZID=America/Los_Angeles:20200309T171500
DTSTAMP:20260423T031618
CREATED:20200218T183850Z
LAST-MODIFIED:20200218T183850Z
UID:10000271-1583774100-1583774100@bandonevents.org
SUMMARY:Bandon Chamber Membership Gathering
DESCRIPTION:The Bandon Chamber of Commerce invites members and local business supporters to a membership gathering Monday\, March 9\, 2020\, at the Bandon Community Center. \nOur guest presenter is Bandon City Manager Dan Chandler. His presentation will focus on “An Overview\, Two months in\, Looking forward: Issues and plans for Bandon city administration.” The Bandon Chamber Board of Directors will review the year- and plans for next year and beyond. There will be time for questions and answers at the end of the presentations. We invite you to join us. \nDoors open at 5:15 p.m. We will be “Celebrating the Irish\,” a week ahead\, with corned beef & cabbage tacos\, green chicken burritos and chips with green guacamole\, provided by Historic Wilson’s Market. Cost is $15/person. The meeting will begin at 6 p.m. RSVP to the Bandon Chamber at 541-347-9616 no later than March 5. \nThe Bandon Chamber of Commerce is a nonprofit organization of members working together to promote the economic vitality and the quality of life in our unique coastal community.
URL:https://bandonevents.org/event/bandon-chamber-gathering-march9/
LOCATION:Bandon Community Center\, 1200 11th St SW\, Bandon\, OR\, 97411\, United States
CATEGORIES:Dining & Culinary,Learning
ATTACH;FMTTYPE=image/jpeg:https://bandonevents.org/wp-content/uploads/2020/02/bandon-chamber-logo.jpg
ORGANIZER;CN="Bandon Chamber of Commerce":MAILTO:info@bandon.com
END:VEVENT
BEGIN:VEVENT
DTSTART;TZID=America/Los_Angeles:20200307T180000
DTEND;TZID=America/Los_Angeles:20200307T180000
DTSTAMP:20260423T031618
CREATED:20200220T232235Z
LAST-MODIFIED:20200220T233132Z
UID:10000274-1583604000-1583604000@bandonevents.org
SUMMARY:The Bite of Bandon
DESCRIPTION:The Bite of Bandon is the Bandon Community Youth Center’s largest fundraiser with proceeds going to help sustain and grow the youth programs. \nThis 21-and-over event has both silent and live auctions as well as 17-20 restaurants providing “bites” for attendees to try. Participants will be given tokens to vote for Best “Display\,” “Savory\,” and “Sweet.” \nThe Bite of Bandon starts at 6 p.m. on Saturday\, March 7\, at the Bandon Community Center. \nAdmission is $40. Tickets are available in person at Bandon Mercantile Co. and Bandon Ace Hardware\, or online at GiveLively.org.
URL:https://bandonevents.org/event/the-bite-of-bandon-2020/
LOCATION:Bandon Community Center\, 1200 11th St SW\, Bandon\, OR\, 97411\, United States
CATEGORIES:Dining & Culinary,Fundraiser
ATTACH;FMTTYPE=image/jpeg:https://bandonevents.org/wp-content/uploads/2020/02/bite-flyer.jpg
ORGANIZER;CN="Bandon Community Youth Center":MAILTO:Danielle@bandonyouth.org
END:VEVENT
BEGIN:VEVENT
DTSTART;TZID=America/Los_Angeles:20200208T190000
DTEND;TZID=America/Los_Angeles:20200208T190000
DTSTAMP:20260423T031618
CREATED:20200204T221940Z
LAST-MODIFIED:20200204T232050Z
UID:10000268-1581188400-1581188400@bandonevents.org
SUMMARY:Trivia Night
DESCRIPTION:Trivia Night Fundraiser for Bandon Library Children’s Program \nThe theme for this game is The Natural World – from Atoms to Zoology. There will be 10 rounds of five questions each\, covering many aspects of our wondrous world. Gather your friends and family to play in teams of up to six people\, or drop in and join a team. Admission is $15 for adults and $10 for high school students. \nSponsored by the Bandon Library Friends and Foundation\, Trivia Night is 7 p.m.\, Saturday\, Feb. 8 at the Bandon Community Center. All funds raised will benefit the Bandon Public Library Children’s Program.  \nFree pizza is provided by Pastries & Pizza\, and players may bring their own snacks. Beverages are available for purchase. Themed costumes are welcome. And\, prizes include First Prize & Trophy\, Best Costume Prize\, and door prizes.
URL:https://bandonevents.org/event/trivia-night-feb8/
LOCATION:Bandon Community Center\, 1200 11th St SW\, Bandon\, OR\, 97411\, United States
CATEGORIES:Fundraiser,History & Culture,Learning
ATTACH;FMTTYPE=image/jpeg:https://bandonevents.org/wp-content/uploads/2020/02/feb-2020-trivia-poster.jpg
END:VEVENT
BEGIN:VEVENT
DTSTART;TZID=America/Los_Angeles:20200205T173000
DTEND;TZID=America/Los_Angeles:20200205T173000
DTSTAMP:20260423T031618
CREATED:20200204T231831Z
LAST-MODIFIED:20200204T231831Z
UID:10000269-1580923800-1580923800@bandonevents.org
SUMMARY:Volunteer Registration: Gorse Blossom Festival 2020
DESCRIPTION:Volunteers interested in the Gorse Blossom Festival are invited to learn more about the event and register. Drop in between 5:30 and 7 p.m. on Wednesday\, Feb. 5\, at the Bandon Community Center. \nFestival dates are Feb. 14 – 16\, 2020. Volunteers can choose from a variety of roles. This year’s festival promises to be just as fun as last year – the only thing that could make it better is YOU!  \nVolunteers who wish to participate\, but cannot attend the registration meeting are welcome to contact festival organizers. Visit GorseBlossomFest.com for details.
URL:https://bandonevents.org/event/volunteer-registration-gorse-blossom-festival-2020/
LOCATION:Bandon Community Center\, 1200 11th St SW\, Bandon\, OR\, 97411\, United States
CATEGORIES:History & Culture,Learning
ATTACH;FMTTYPE=image/jpeg:https://bandonevents.org/wp-content/uploads/2020/02/volunteer-meet_gorsefest2020.jpg
ORGANIZER;CN="Gorse Blossom Festival":MAILTO:info@gorseblossomfest.com
END:VEVENT
BEGIN:VEVENT
DTSTART;TZID=America/Los_Angeles:20191225T110000
DTEND;TZID=America/Los_Angeles:20191225T140000
DTSTAMP:20260423T031618
CREATED:20191109T000510Z
LAST-MODIFIED:20191109T001123Z
UID:10000340-1577271600-1577282400@bandonevents.org
SUMMARY:Bandon Holiday Meals: Christmas
DESCRIPTION:Enjoy a free community meal on Christmas Day. \nBandon Holiday Meals volunteers will serve the 2019 Christmas Holiday Meal from 11 a.m. to 2 p.m. on Wednesday\, Dec. 25\, at the Bandon Community Center. \nOn the menu– turkey and ham\, stuffing\, mashed potatoes and gravy\, yams\, green beans\, coleslaw\, cranberry sauce\, rolls\, pie and cookies. Beverages include coffee\, juice\, and water. The meal is free. Those who wish to contribute may make a donation at the door. \nHomebound Bandon residents can pre-order meal delivery. Please call Colleen Wiesel by Monday\, Dec. 23\, at 916-221-0318.
URL:https://bandonevents.org/event/bandon-holiday-meals-christmas/
LOCATION:Bandon Community Center\, 1200 11th St SW\, Bandon\, OR\, 97411\, United States
CATEGORIES:Dining & Culinary
ATTACH;FMTTYPE=image/jpeg:https://bandonevents.org/wp-content/uploads/2019/11/1cmas-holiday-food.jpg
END:VEVENT
BEGIN:VEVENT
DTSTART;TZID=America/Los_Angeles:20191128T110000
DTEND;TZID=America/Los_Angeles:20191128T140000
DTSTAMP:20260423T031618
CREATED:20191109T000006Z
LAST-MODIFIED:20191109T001000Z
UID:10000339-1574938800-1574949600@bandonevents.org
SUMMARY:Bandon Holiday Meals: Thanksgiving
DESCRIPTION:Enjoy a free community meal on Thanksgiving Day. \nBandon Holiday Meals volunteers will serve the 2019 Thanksgiving meal from 11 a.m. to 2 p.m. on Thursday\, Nov. 28\, at the Bandon Community Center. \nOn the menu– turkey and ham\, stuffing\, mashed potatoes and gravy\, yams\, green beans\, coleslaw\, cranberry sauce\, rolls\, pie and cookies. Beverages include coffee\, juice\, and water. The meal is free. Those who wish to contribute may make a donation at the door. \nHomebound Bandon residents can pre-order meal delivery. Please call Colleen Wiesel by Monday\, Nov. 25\, at 916-221-0318.
URL:https://bandonevents.org/event/bandon-holiday-meals-thanksgiving/
LOCATION:Bandon Community Center\, 1200 11th St SW\, Bandon\, OR\, 97411\, United States
CATEGORIES:Dining & Culinary
ATTACH;FMTTYPE=image/jpeg:https://bandonevents.org/wp-content/uploads/2019/11/1tksgv-holiday-food.jpg
END:VEVENT
BEGIN:VEVENT
DTSTART;TZID=America/Los_Angeles:20191109T180000
DTEND;TZID=America/Los_Angeles:20191109T180000
DTSTAMP:20260423T031618
CREATED:20191008T205801Z
LAST-MODIFIED:20191030T180937Z
UID:10000321-1573322400-1573322400@bandonevents.org
SUMMARY:Bandon Rotary Wine & Cheese Extravaganza
DESCRIPTION:Bandon Rotary Club presents the 25th Anniversary Wine & Cheese Extravaganza from 6 p.m. to 9 p.m. at the Bandon Community Center on Saturday\, November 9\, 2019. Bandon Rotary’s annual fundraising event features extravagant cheese and wine tasting\, hors d’oeuvres and desserts by Coastal Mist\, plus live and silent auction. \nAdmission is $50 per person\, or $500 for a table of eight. Limited tickets are sold for this event. Tickets are available at Bandon Mercantile Company.
URL:https://bandonevents.org/event/bandon-rotary-wine-cheese-extravaganza/
LOCATION:Bandon Community Center\, 1200 11th St SW\, Bandon\, OR\, 97411\, United States
CATEGORIES:Dining & Culinary,Fundraiser
ATTACH;FMTTYPE=image/jpeg:https://bandonevents.org/wp-content/uploads/2019/09/rotary_cheese_1k.jpg
END:VEVENT
BEGIN:VEVENT
DTSTART;TZID=America/Los_Angeles:20191103T160000
DTEND;TZID=America/Los_Angeles:20191103T180000
DTSTAMP:20260423T031618
CREATED:20191029T221345Z
LAST-MODIFIED:20191029T221345Z
UID:10000327-1572796800-1572804000@bandonevents.org
SUMMARY:3rd Annual Art for Health
DESCRIPTION:Southern Coos Health Foundation is hosting their 3rd Annual Art for Health event which will be held 4 to 6 p.m.\, Sunday\, November 3\, at the Bandon Community Center. \nThe theme this year is the Healing Power of Art. Refreshments and music will be enjoyed and purchasers of tickets will be awarded a donated painting and listen to artist presentations. Tickets will be available at $35 each or 2 for $60. Call the Southern Coos Health Foundation office to reserve seats\, 541-329-1040. \nEach ticket holder will receive a piece of art through ticket raffle. There will also be a silent auction as well as local artists speaking of the health and healing benefits of art\, especially in a hospital setting. For more information about the event or how you could donate art\, contact Ava Richey at yarnfarm@frontier.com or by phone at 541-297-6118\, or Susan Lehman at studioblue@mycomspan.com or 541-347-9888.
URL:https://bandonevents.org/event/3rd-annual-art-for-health/
LOCATION:Bandon Community Center\, 1200 11th St SW\, Bandon\, OR\, 97411\, United States
CATEGORIES:Fundraiser,History & Culture
ATTACH;FMTTYPE=image/jpeg:https://bandonevents.org/wp-content/uploads/2019/10/artforhealth_skuddo2019.jpg
END:VEVENT
END:VCALENDAR