BEGIN:VCALENDAR
VERSION:2.0
PRODID:-//Bandon Events - ECPv6.15.20//NONSGML v1.0//EN
CALSCALE:GREGORIAN
METHOD:PUBLISH
X-ORIGINAL-URL:https://bandonevents.org
X-WR-CALDESC:Events for Bandon Events
REFRESH-INTERVAL;VALUE=DURATION:PT1H
X-Robots-Tag:noindex
X-PUBLISHED-TTL:PT1H
BEGIN:VTIMEZONE
TZID:America/Los_Angeles
BEGIN:DAYLIGHT
TZOFFSETFROM:-0800
TZOFFSETTO:-0700
TZNAME:PDT
DTSTART:20190310T100000
END:DAYLIGHT
BEGIN:STANDARD
TZOFFSETFROM:-0700
TZOFFSETTO:-0800
TZNAME:PST
DTSTART:20191103T090000
END:STANDARD
BEGIN:DAYLIGHT
TZOFFSETFROM:-0800
TZOFFSETTO:-0700
TZNAME:PDT
DTSTART:20200308T100000
END:DAYLIGHT
BEGIN:STANDARD
TZOFFSETFROM:-0700
TZOFFSETTO:-0800
TZNAME:PST
DTSTART:20201101T090000
END:STANDARD
BEGIN:DAYLIGHT
TZOFFSETFROM:-0800
TZOFFSETTO:-0700
TZNAME:PDT
DTSTART:20210314T100000
END:DAYLIGHT
BEGIN:STANDARD
TZOFFSETFROM:-0700
TZOFFSETTO:-0800
TZNAME:PST
DTSTART:20211107T090000
END:STANDARD
END:VTIMEZONE
BEGIN:VEVENT
DTSTART;TZID=America/Los_Angeles:20200201T090000
DTEND;TZID=America/Los_Angeles:20200201T150000
DTSTAMP:20260420T193540
CREATED:20200122T164125Z
LAST-MODIFIED:20200122T164125Z
UID:10000265-1580547600-1580569200@bandonevents.org
SUMMARY:Women's Health Day
DESCRIPTION:17th Annual Women’s Health Day– \nWomen’s Health Day is an annual event held by the Southern Coos Hospital & Health Center and Southern Coos Health Foundation. Over the past 16 years\, Women’s Health Day has focused on health-related topics that are relevant to women. This year’s focus will be mental and emotional wellness. \nAdmission is free. Tickets are not required but we do ask that you register at southerncoos.org/womenshealthday. \nWomen’s Health Day is 9 a.m. to 3 p.m. on Saturday\, Feb. 1\, 2020\, at the Bandon Community Center. Breakfast starts at 8:30 a.m.
URL:https://bandonevents.org/event/womens-health-day/
LOCATION:OR\, United States
CATEGORIES:Learning
ATTACH;FMTTYPE=image/jpeg:https://bandonevents.org/wp-content/uploads/2020/01/womenshealth2020.jpg
END:VEVENT
END:VCALENDAR