BEGIN:VCALENDAR
VERSION:2.0
PRODID:-//Bandon Events - ECPv6.15.20//NONSGML v1.0//EN
CALSCALE:GREGORIAN
METHOD:PUBLISH
X-ORIGINAL-URL:https://bandonevents.org
X-WR-CALDESC:Events for Bandon Events
REFRESH-INTERVAL;VALUE=DURATION:PT1H
X-Robots-Tag:noindex
X-PUBLISHED-TTL:PT1H
BEGIN:VTIMEZONE
TZID:America/Los_Angeles
BEGIN:DAYLIGHT
TZOFFSETFROM:-0800
TZOFFSETTO:-0700
TZNAME:PDT
DTSTART:20200308T100000
END:DAYLIGHT
BEGIN:STANDARD
TZOFFSETFROM:-0700
TZOFFSETTO:-0800
TZNAME:PST
DTSTART:20201101T090000
END:STANDARD
BEGIN:DAYLIGHT
TZOFFSETFROM:-0800
TZOFFSETTO:-0700
TZNAME:PDT
DTSTART:20210314T100000
END:DAYLIGHT
BEGIN:STANDARD
TZOFFSETFROM:-0700
TZOFFSETTO:-0800
TZNAME:PST
DTSTART:20211107T090000
END:STANDARD
BEGIN:DAYLIGHT
TZOFFSETFROM:-0800
TZOFFSETTO:-0700
TZNAME:PDT
DTSTART:20220313T100000
END:DAYLIGHT
BEGIN:STANDARD
TZOFFSETFROM:-0700
TZOFFSETTO:-0800
TZNAME:PST
DTSTART:20221106T090000
END:STANDARD
END:VTIMEZONE
BEGIN:VEVENT
DTSTART;TZID=America/Los_Angeles:20210430T100000
DTEND;TZID=America/Los_Angeles:20210430T160000
DTSTAMP:20260424T022608
CREATED:20210413T162153Z
LAST-MODIFIED:20210413T162153Z
UID:10000410-1619776800-1619798400@bandonevents.org
SUMMARY:Vaccination Event with Coast Community Health Center
DESCRIPTION:Coast Community Health Center will present a community COVID-19 vaccination event Friday\, April 30\, from 10 a.m. to 4 p.m. at the Bandon Community Center. \nVaccinations are free\, and pre-registration is required. \nRegister\nSign up online with the Appointment Plus app -or- \nVisit the Coast Community Health Center website CoastCommunityHealth.org \nEligibility\nVaccines are available to all Bandon area residents age 18 and older. \nMore Information\nAs a Federally Qualified Health Center\, Coast Community Health Center has been able to access expanded vaccination guidelines to offer vaccinations to anyone age 18 and older. The Human Resources and Service Administration and Centers for Disease Control were instrumental in expanding the guidance to all HRSA supported sites. Read more . . .
URL:https://bandonevents.org/event/vaccination-event-with-coast-community-april-30/
LOCATION:Bandon Community Center\, 1200 11th St SW\, Bandon\, OR\, 97411\, United States
CATEGORIES:Community Services
ATTACH;FMTTYPE=image/jpeg:https://bandonevents.org/wp-content/uploads/2021/02/coasthealthctr.jpg
END:VEVENT
BEGIN:VEVENT
DTSTART;TZID=America/Los_Angeles:20210423T100000
DTEND;TZID=America/Los_Angeles:20210423T160000
DTSTAMP:20260424T022608
CREATED:20210413T162005Z
LAST-MODIFIED:20210413T162005Z
UID:10000407-1619172000-1619193600@bandonevents.org
SUMMARY:Vaccination Event with Coast Community Health Center
DESCRIPTION:Coast Community Health Center will present a community COVID-19 vaccination event Friday\, April 23\, from 10 a.m. to 4 p.m. at the Bandon Community Center. \nVaccinations are free\, and pre-registration is required. \nRegister\nSign up online with the Appointment Plus app -or- \nVisit the Coast Community Health Center website CoastCommunityHealth.org \nEligibility\nVaccines are available to all Bandon area residents age 18 and older. \nMore Information\nAs a Federally Qualified Health Center\, Coast Community Health Center has been able to access expanded vaccination guidelines to offer vaccinations to anyone age 18 and older. The Human Resources and Service Administration and Centers for Disease Control were instrumental in expanding the guidance to all HRSA supported sites. Read more . . .
URL:https://bandonevents.org/event/vaccination-event-with-coast-community-april-23/
LOCATION:Bandon Community Center\, 1200 11th St SW\, Bandon\, OR\, 97411\, United States
CATEGORIES:Community Services
ATTACH;FMTTYPE=image/jpeg:https://bandonevents.org/wp-content/uploads/2021/02/coasthealthctr.jpg
END:VEVENT
BEGIN:VEVENT
DTSTART;TZID=America/Los_Angeles:20210417T083000
DTEND;TZID=America/Los_Angeles:20210417T160000
DTSTAMP:20260424T022608
CREATED:20210412T214542Z
LAST-MODIFIED:20210412T214542Z
UID:10000405-1618648200-1618675200@bandonevents.org
SUMMARY:Vaccination Event with Coast Community Health Center
DESCRIPTION:Coast Community Health Center will present a community COVID-19 vaccination event Saturday\, April 17\, from 8:30 a.m. to 4 p.m. at the Bandon Community Center. \nDrive-through and indoor service are available for this vaccination event. \nVaccinations are free\, and pre-registration is required. \nRegister\nSign up online with the Appointment Plus app -or- \nVisit the Coast Community Health Center website CoastCommunityHealth.org \nEligibility\nVaccines are available to all Bandon area residents age 18 and older. \nMore Information\nAs a Federally Qualified Health Center\, Coast Community Health Center has been able to access expanded vaccination guidelines to offer vaccinations to anyone age 18 and older. The Human Resources and Service Administration and Centers for Disease Control were instrumental in expanding the guidance to all HRSA supported sites. Read more . . .
URL:https://bandonevents.org/event/vaccination-event-with-coast-community-april-17/
LOCATION:Bandon Community Center\, 1200 11th St SW\, Bandon\, OR\, 97411\, United States
CATEGORIES:Community Services
ATTACH;FMTTYPE=image/jpeg:https://bandonevents.org/wp-content/uploads/2021/02/coasthealthctr.jpg
END:VEVENT
BEGIN:VEVENT
DTSTART;TZID=America/Los_Angeles:20210416T100000
DTEND;TZID=America/Los_Angeles:20210416T160000
DTSTAMP:20260424T022608
CREATED:20210412T213859Z
LAST-MODIFIED:20210412T213859Z
UID:10000403-1618567200-1618588800@bandonevents.org
SUMMARY:Vaccination Event with Coast Community Health Center
DESCRIPTION:Coast Community Health Center will present a community COVID-19 vaccination event Friday\, April 16\, from 10 a.m. to 4 p.m. at the Bandon Community Center. \nVaccinations are free\, and pre-registration is required. \nRegister\nSign up online with the Appointment Plus app -or- \nVisit the Coast Community Health Center website CoastCommunityHealth.org \nEligibility\nVaccines are available to all Bandon area residents age 18 and older. \nMore Information\nAs a Federally Qualified Health Center\, Coast Community Health Center has been able to access expanded vaccination guidelines to offer vaccinations to anyone age 18 and older. The Human Resources and Service Administration and Centers for Disease Control were instrumental in expanding the guidance to all HRSA supported sites. Read more . . .
URL:https://bandonevents.org/event/vaccination-event-with-coast-community-april-16/
LOCATION:Bandon Community Center\, 1200 11th St SW\, Bandon\, OR\, 97411\, United States
CATEGORIES:Community Services
ATTACH;FMTTYPE=image/jpeg:https://bandonevents.org/wp-content/uploads/2021/02/coasthealthctr.jpg
END:VEVENT
BEGIN:VEVENT
DTSTART;TZID=America/Los_Angeles:20210409T100000
DTEND;TZID=America/Los_Angeles:20210409T160000
DTSTAMP:20260424T022608
CREATED:20210408T190424Z
LAST-MODIFIED:20210408T190424Z
UID:10000400-1617962400-1617984000@bandonevents.org
SUMMARY:Vaccination Event with Coast Community Health Center
DESCRIPTION:Coast Community Health Center will present a community COVID-19 vaccination event Friday\, April 9\, from 10 a.m. to 4 p.m. at the Bandon Community Center. \nVaccinations are free\, and pre-registration is required. \nRegister\nSign up online with the Appointment Plus app -or- \nVisit the Coast Community Health Center website CoastCommunityHealth.org \nEligibility\nVaccines are available to all Bandon area residents age 18 and older. \nMore Information\nAs a Federally Qualified Health Center\, Coast Community Health Center has been able to access expanded vaccination guidelines to offer vaccinations to anyone age 18 and older. The Human Resources and Service Administration and Centers for Disease Control were instrumental in expanding the guidance to all HRSA supported sites. Read more . . .
URL:https://bandonevents.org/event/vaccination-event-with-coast-community-april-9/
LOCATION:Bandon Community Center\, 1200 11th St SW\, Bandon\, OR\, 97411\, United States
CATEGORIES:Community Services
ATTACH;FMTTYPE=image/jpeg:https://bandonevents.org/wp-content/uploads/2021/02/coasthealthctr.jpg
END:VEVENT
BEGIN:VEVENT
DTSTART;TZID=America/Los_Angeles:20210212T080000
DTEND;TZID=America/Los_Angeles:20210212T130000
DTSTAMP:20260424T022608
CREATED:20210210T214632Z
LAST-MODIFIED:20210210T214632Z
UID:10000394-1613116800-1613134800@bandonevents.org
SUMMARY:Vaccination Event with Coast Community Health Center
DESCRIPTION:Coast Community Health Center will provide COVID vaccinations at the Bandon Community Center on Friday\, Feb. 12\, from 8 a.m. to 1 p.m. \nVaccinations are free\, available for health care workers\, school district employees\, care givers\, and individuals over the age of 80. Participants are asked to reserve an appointment time and complete patient forms in advance. \nRegister online with Acuity Scheduling -or- \nCall the health center at 541-347-2529.
URL:https://bandonevents.org/event/vaccination-event-coast-community-health-feb-12/
LOCATION:Bandon Community Center\, 1200 11th St SW\, Bandon\, OR\, 97411\, United States
CATEGORIES:Community Services
ATTACH;FMTTYPE=image/jpeg:https://bandonevents.org/wp-content/uploads/2021/02/coasthealthctr.jpg
END:VEVENT
BEGIN:VEVENT
DTSTART;TZID=America/Los_Angeles:20210209T100000
DTEND;TZID=America/Los_Angeles:20210209T150000
DTSTAMP:20260424T022608
CREATED:20210204T193304Z
LAST-MODIFIED:20210204T193529Z
UID:10000285-1612864800-1612882800@bandonevents.org
SUMMARY:COVID-19 Testing with Coast Community Health Center
DESCRIPTION:Free drive-through COVID-19 testing is available by appointment at the Bandon Community Center on Tuesday\, Feb. 9\, from 10 a.m. to 3 p.m. This testing event is presented by Coast Community Health Center in partnership with the Oregon Health Authority. \nEach individual should register in advance. The test is a quick and pain-free self administered nasal swab. Season flu shots are also available at this event\, free with most health insurance policies. \nOnline appointment registration is available at DoINeedaCovid19Test.com. \nFor more information\, call Coast Community Health Center\, 541-347-2529.
URL:https://bandonevents.org/event/covid-19-testing-coast-community-health-feb-9/
LOCATION:Bandon Community Center\, 1200 11th St SW\, Bandon\, OR\, 97411\, United States
CATEGORIES:Community Services
ATTACH;FMTTYPE=image/jpeg:https://bandonevents.org/wp-content/uploads/2021/02/coasthealthctr.jpg
END:VEVENT
BEGIN:VEVENT
DTSTART;TZID=America/Los_Angeles:20210205T130000
DTEND;TZID=America/Los_Angeles:20210205T160000
DTSTAMP:20260424T022608
CREATED:20210204T192501Z
LAST-MODIFIED:20210204T192501Z
UID:10000284-1612530000-1612540800@bandonevents.org
SUMMARY:Vaccination Event with Coast Community Health Center
DESCRIPTION:Coast Community Health Center will provide COVID vaccinations at the Bandon Community Center on Friday\, Feb. 5\, from 1 to 4 p.m. \nVaccinations are free\, available for health care workers and school district employees. Participants are asked to reserve an appointment time and complete patient forms in advance. \nRegister online with Acuity Scheduling -or- \nCall the health center at 541-347-2529.
URL:https://bandonevents.org/event/vaccination-event-coast-community-health-feb-5/
LOCATION:Bandon Community Center\, 1200 11th St SW\, Bandon\, OR\, 97411\, United States
CATEGORIES:Community Services
ATTACH;FMTTYPE=image/jpeg:https://bandonevents.org/wp-content/uploads/2021/02/coasthealthctr.jpg
END:VEVENT
END:VCALENDAR