BEGIN:VCALENDAR
VERSION:2.0
PRODID:-//Bandon Events - ECPv6.15.20//NONSGML v1.0//EN
CALSCALE:GREGORIAN
METHOD:PUBLISH
X-WR-CALNAME:Bandon Events
X-ORIGINAL-URL:https://bandonevents.org
X-WR-CALDESC:Events for Bandon Events
REFRESH-INTERVAL;VALUE=DURATION:PT1H
X-Robots-Tag:noindex
X-PUBLISHED-TTL:PT1H
BEGIN:VTIMEZONE
TZID:America/Los_Angeles
BEGIN:DAYLIGHT
TZOFFSETFROM:-0800
TZOFFSETTO:-0700
TZNAME:PDT
DTSTART:20250309T100000
END:DAYLIGHT
BEGIN:STANDARD
TZOFFSETFROM:-0700
TZOFFSETTO:-0800
TZNAME:PST
DTSTART:20251102T090000
END:STANDARD
BEGIN:DAYLIGHT
TZOFFSETFROM:-0800
TZOFFSETTO:-0700
TZNAME:PDT
DTSTART:20260308T100000
END:DAYLIGHT
BEGIN:STANDARD
TZOFFSETFROM:-0700
TZOFFSETTO:-0800
TZNAME:PST
DTSTART:20261101T090000
END:STANDARD
BEGIN:DAYLIGHT
TZOFFSETFROM:-0800
TZOFFSETTO:-0700
TZNAME:PDT
DTSTART:20270314T100000
END:DAYLIGHT
BEGIN:STANDARD
TZOFFSETFROM:-0700
TZOFFSETTO:-0800
TZNAME:PST
DTSTART:20271107T090000
END:STANDARD
END:VTIMEZONE
BEGIN:VEVENT
DTSTART;TZID=America/Los_Angeles:20260424T190000
DTEND;TZID=America/Los_Angeles:20260424T190000
DTSTAMP:20260420T141802
CREATED:20251217T022241Z
LAST-MODIFIED:20251217T022241Z
UID:10000659-1777057200-1777057200@bandonevents.org
SUMMARY:Movie Night: Mary Poppins
DESCRIPTION:Julie Andrews stars as the unforgettable Mary Poppins: When a stiff banker searches for a nanny for his youngsters\, a young woman descends from the sky and brightens the lives of everyone she meets. \nThe academy award winning 1964 Disney musical also stars Dick Van Dyke\, Glynis Johns\, David Tomlinson and Ed Wynn\, directed by Robert Stevenson. The movie is rated G\, 2 hours and 20 minutes. \nShow time is 7 p.m. on Friday\, April 24\, at the Sprague Community Theater. Admission is $5. Concessions are also available for purchase.
URL:https://bandonevents.org/event/movie-night-mary-poppins/
LOCATION:Sprague Community Theater\, 1202 11th St SW\, Bandon\, OR\, 97411\, United States
CATEGORIES:Film
ATTACH;FMTTYPE=image/jpeg:https://bandonevents.org/wp-content/uploads/2025/12/marypoppins.jpg
END:VEVENT
BEGIN:VEVENT
DTSTART;TZID=America/Los_Angeles:20260509T093000
DTEND;TZID=America/Los_Angeles:20260509T113000
DTSTAMP:20260420T141802
CREATED:20260407T233610Z
LAST-MODIFIED:20260407T233610Z
UID:10000689-1778319000-1778326200@bandonevents.org
SUMMARY:Auditions: Nunsense the Musical
DESCRIPTION:Bandon Playhouse is pleased to announce auditions for “Nunsense” the musical. \nAuditions are Saturday\, May 9\, 9:30 to 11:30 a.m. at the Sprague Community Theater with callbacks on May 16. \nThose auditioning for stage roles are invited to prepare 16 bars of an up-tempo musical theater piece\, or a pop/country song. There will also be a small dance audition. Remember to wear comfortable clothing and shoes to dance in. \n“Nunsense!” It’s Habit Forming! A hilarious farce about a convent of Nuns staging a fundraiser to enable them to bury the last four nuns of their order who were accidentally poisoned by the convent cook\, Sister Julia (child of God). The Little Sisters of Hoboken (well\, what’s left of them) put on this riotous revue packed with hilarious\, show-stopping song and dance numbers\, and it always proves to be a crowd favorite. \nRehearsals for the show begin in June. Performances are two weekends\, August 7\, 8\, 9\, and 14\,15\,16\, 2026. \nBandon Playhouse has provided the best in community theater\, from classic plays and musicals to premiere works by new playwrights\, since 1976. For more information\, visit BandonPlayhouse.org.
URL:https://bandonevents.org/event/auditions-nunsense-the-musical/
LOCATION:Sprague Community Theater\, 1202 11th St SW\, Bandon\, OR\, 97411\, United States
CATEGORIES:Performing Arts
ATTACH;FMTTYPE=image/png:https://bandonevents.org/wp-content/uploads/2026/04/auditions-nunsense-playhouse.png
END:VEVENT
END:VCALENDAR