BEGIN:VCALENDAR
VERSION:2.0
PRODID:-//Bandon Events - ECPv6.15.20//NONSGML v1.0//EN
CALSCALE:GREGORIAN
METHOD:PUBLISH
X-ORIGINAL-URL:https://bandonevents.org
X-WR-CALDESC:Events for Bandon Events
REFRESH-INTERVAL;VALUE=DURATION:PT1H
X-Robots-Tag:noindex
X-PUBLISHED-TTL:PT1H
BEGIN:VTIMEZONE
TZID:America/Los_Angeles
BEGIN:DAYLIGHT
TZOFFSETFROM:-0800
TZOFFSETTO:-0700
TZNAME:PDT
DTSTART:20250309T100000
END:DAYLIGHT
BEGIN:STANDARD
TZOFFSETFROM:-0700
TZOFFSETTO:-0800
TZNAME:PST
DTSTART:20251102T090000
END:STANDARD
BEGIN:DAYLIGHT
TZOFFSETFROM:-0800
TZOFFSETTO:-0700
TZNAME:PDT
DTSTART:20260308T100000
END:DAYLIGHT
BEGIN:STANDARD
TZOFFSETFROM:-0700
TZOFFSETTO:-0800
TZNAME:PST
DTSTART:20261101T090000
END:STANDARD
BEGIN:DAYLIGHT
TZOFFSETFROM:-0800
TZOFFSETTO:-0700
TZNAME:PDT
DTSTART:20270314T100000
END:DAYLIGHT
BEGIN:STANDARD
TZOFFSETFROM:-0700
TZOFFSETTO:-0800
TZNAME:PST
DTSTART:20271107T090000
END:STANDARD
END:VTIMEZONE
BEGIN:VEVENT
DTSTART;TZID=America/Los_Angeles:20261106T190000
DTEND;TZID=America/Los_Angeles:20261106T190000
DTSTAMP:20260420T155841
CREATED:20251217T233343Z
LAST-MODIFIED:20251217T233343Z
UID:10000666-1793991600-1793991600@bandonevents.org
SUMMARY:Movie Night: To Catch a Thief
DESCRIPTION:Cary Grant and Grace Kelly star in the 1955 Alfred Hitchcock triller about retired jewel thief who risks arrest– unless he can trap the copycat burglar on a stealing spree on the French Riviera. \nThe cast also stars Jessie Royce Landis\, Brigitte Auber and Charles Vanel. The movie is rated PG\, 1 hour and 43 minutes. \nShow time is 7 p.m. on Friday\, Nov. 6\, at the Sprague Community Theater. Admission is $5. Concessions are also available for purchase.
URL:https://bandonevents.org/event/movie-night-to-catch-a-thief/
LOCATION:Sprague Community Theater\, 1202 11th St SW\, Bandon\, OR\, 97411\, United States
CATEGORIES:Film
ATTACH;FMTTYPE=image/jpeg:https://bandonevents.org/wp-content/uploads/2025/12/catchathief.jpg
END:VEVENT
END:VCALENDAR