BEGIN:VCALENDAR
VERSION:2.0
PRODID:-//Bandon Events - ECPv6.15.20//NONSGML v1.0//EN
CALSCALE:GREGORIAN
METHOD:PUBLISH
X-WR-CALNAME:Bandon Events
X-ORIGINAL-URL:https://bandonevents.org
X-WR-CALDESC:Events for Bandon Events
REFRESH-INTERVAL;VALUE=DURATION:PT1H
X-Robots-Tag:noindex
X-PUBLISHED-TTL:PT1H
BEGIN:VTIMEZONE
TZID:America/Los_Angeles
BEGIN:DAYLIGHT
TZOFFSETFROM:-0800
TZOFFSETTO:-0700
TZNAME:PDT
DTSTART:20180311T100000
END:DAYLIGHT
BEGIN:STANDARD
TZOFFSETFROM:-0700
TZOFFSETTO:-0800
TZNAME:PST
DTSTART:20181104T090000
END:STANDARD
BEGIN:DAYLIGHT
TZOFFSETFROM:-0800
TZOFFSETTO:-0700
TZNAME:PDT
DTSTART:20190310T100000
END:DAYLIGHT
BEGIN:STANDARD
TZOFFSETFROM:-0700
TZOFFSETTO:-0800
TZNAME:PST
DTSTART:20191103T090000
END:STANDARD
BEGIN:DAYLIGHT
TZOFFSETFROM:-0800
TZOFFSETTO:-0700
TZNAME:PDT
DTSTART:20200308T100000
END:DAYLIGHT
BEGIN:STANDARD
TZOFFSETFROM:-0700
TZOFFSETTO:-0800
TZNAME:PST
DTSTART:20201101T090000
END:STANDARD
END:VTIMEZONE
BEGIN:VEVENT
DTSTART;TZID=America/Los_Angeles:20191214T190000
DTEND;TZID=America/Los_Angeles:20191214T190000
DTSTAMP:20260420T233020
CREATED:20191113T002832Z
LAST-MODIFIED:20191113T002832Z
UID:10000347-1576350000-1576350000@bandonevents.org
SUMMARY:A Bandon Christmas Carol
DESCRIPTION:“A Bandon Christmas Carol” is a hilarious and moving adaptation of the holiday classic! \nFilm and TV actor Nameer El-Kadi is Scrooge along with a large cast of Bandon faves including Heather Bouher\, Annie Giardinelli\, Meara Stadelman\, David Wyatt\, and so many more!. The fast-paced original script is by Neal Davis (“Bethlehem Road\,” “Murder at TwoMile”) and directed by the brilliant Mike Dempsey! \nPerformances are December 6 and 7 at 7 p.m.\, December 8 at 2 p.m.\, December 13 and 14 at 7 p.m.\, and December 15 at 2 p.m. \nAdmission for adults is $12\, seniors (60+) $10\, child (12 & under) $5. Tickets are available at The Bandon Mercantile\, Sprague Theater box office\, and reservations can be made using the contact form at bandonplayhouse.org.
URL:https://bandonevents.org/event/a-bandon-christmas-carol-dec14/
LOCATION:Sprague Community Theater\, 1202 11th St SW\, Bandon\, OR\, 97411\, United States
CATEGORIES:History & Culture,Performing Arts
ATTACH;FMTTYPE=image/jpeg:https://bandonevents.org/wp-content/uploads/2019/11/cmascarol-playhouse.jpg
END:VEVENT
BEGIN:VEVENT
DTSTART;TZID=America/Los_Angeles:20191213T190000
DTEND;TZID=America/Los_Angeles:20191213T190000
DTSTAMP:20260420T233020
CREATED:20191113T002718Z
LAST-MODIFIED:20191113T002718Z
UID:10000346-1576263600-1576263600@bandonevents.org
SUMMARY:A Bandon Christmas Carol
DESCRIPTION:“A Bandon Christmas Carol” is a hilarious and moving adaptation of the holiday classic! \nFilm and TV actor Nameer El-Kadi is Scrooge along with a large cast of Bandon faves including Heather Bouher\, Annie Giardinelli\, Meara Stadelman\, David Wyatt\, and so many more!. The fast-paced original script is by Neal Davis (“Bethlehem Road\,” “Murder at TwoMile”) and directed by the brilliant Mike Dempsey! \nPerformances are December 6 and 7 at 7 p.m.\, December 8 at 2 p.m.\, December 13 and 14 at 7 p.m.\, and December 15 at 2 p.m. \nAdmission for adults is $12\, seniors (60+) $10\, child (12 & under) $5. Tickets are available at The Bandon Mercantile\, Sprague Theater box office\, and reservations can be made using the contact form at bandonplayhouse.org.
URL:https://bandonevents.org/event/a-bandon-christmas-carol-dec13/
LOCATION:Sprague Community Theater\, 1202 11th St SW\, Bandon\, OR\, 97411\, United States
CATEGORIES:History & Culture,Performing Arts
ATTACH;FMTTYPE=image/jpeg:https://bandonevents.org/wp-content/uploads/2019/11/cmascarol-playhouse.jpg
END:VEVENT
BEGIN:VEVENT
DTSTART;TZID=America/Los_Angeles:20191208T140000
DTEND;TZID=America/Los_Angeles:20191208T140000
DTSTAMP:20260420T233020
CREATED:20191113T002419Z
LAST-MODIFIED:20191113T002448Z
UID:10000345-1575813600-1575813600@bandonevents.org
SUMMARY:A Bandon Christmas Carol
DESCRIPTION:“A Bandon Christmas Carol” is a hilarious and moving adaptation of the holiday classic! \nFilm and TV actor Nameer El-Kadi is Scrooge along with a large cast of Bandon faves including Heather Bouher\, Annie Giardinelli\, Meara Stadelman\, David Wyatt\, and so many more!. The fast-paced original script is by Neal Davis (“Bethlehem Road\,” “Murder at TwoMile”) and directed by the brilliant Mike Dempsey! \nPerformances are December 6 and 7 at 7 p.m.\, December 8 at 2 p.m.\, December 13 and 14 at 7 p.m.\, and December 15 at 2 p.m. \nAdmission for adults is $12\, seniors (60+) $10\, child (12 & under) $5. Tickets are available at The Bandon Mercantile\, Sprague Theater box office\, and reservations can be made using the contact form at bandonplayhouse.org.
URL:https://bandonevents.org/event/a-bandon-christmas-carol-dec8/
LOCATION:Sprague Community Theater\, 1202 11th St SW\, Bandon\, OR\, 97411\, United States
CATEGORIES:History & Culture,Performing Arts
ATTACH;FMTTYPE=image/jpeg:https://bandonevents.org/wp-content/uploads/2019/11/cmascarol-playhouse.jpg
END:VEVENT
BEGIN:VEVENT
DTSTART;TZID=America/Los_Angeles:20191207T190000
DTEND;TZID=America/Los_Angeles:20191207T190000
DTSTAMP:20260420T233020
CREATED:20191113T002304Z
LAST-MODIFIED:20191113T002532Z
UID:10000344-1575745200-1575745200@bandonevents.org
SUMMARY:A Bandon Christmas Carol
DESCRIPTION:“A Bandon Christmas Carol” is a hilarious and moving adaptation of the holiday classic! \nFilm and TV actor Nameer El-Kadi is Scrooge along with a large cast of Bandon faves including Heather Bouher\, Annie Giardinelli\, Meara Stadelman\, David Wyatt\, and so many more!. The fast-paced original script is by Neal Davis (“Bethlehem Road\,” “Murder at TwoMile”) and directed by the brilliant Mike Dempsey! \nPerformances are December 6 and 7 at 7 p.m.\, December 8 at 2 p.m.\, December 13 and 14 at 7 p.m.\, and December 15 at 2 p.m. \nAdmission for adults is $12\, seniors (60+) $10\, child (12 & under) $5. Tickets are available at The Bandon Mercantile\, Sprague Theater box office\, and reservations can be made using the contact form at bandonplayhouse.org.
URL:https://bandonevents.org/event/a-bandon-christmas-carol-dec7/
LOCATION:Sprague Community Theater\, 1202 11th St SW\, Bandon\, OR\, 97411\, United States
CATEGORIES:History & Culture,Performing Arts
ATTACH;FMTTYPE=image/jpeg:https://bandonevents.org/wp-content/uploads/2019/11/cmascarol-playhouse.jpg
END:VEVENT
BEGIN:VEVENT
DTSTART;TZID=America/Los_Angeles:20191206T190000
DTEND;TZID=America/Los_Angeles:20191206T190000
DTSTAMP:20260420T233020
CREATED:20191113T002156Z
LAST-MODIFIED:20191113T002156Z
UID:10000343-1575658800-1575658800@bandonevents.org
SUMMARY:A Bandon Christmas Carol
DESCRIPTION:“A Bandon Christmas Carol” is a hilarious and moving adaptation of the holiday classic! \nFilm and TV actor Nameer El-Kadi is Scrooge along with a large cast of Bandon faves including Heather Bouher\, Annie Giardinelli\, Meara Stadelman\, David Wyatt\, and so many more!. The fast-paced original script is by Neal Davis (“Bethlehem Road\,” “Murder at TwoMile”) and directed by the brilliant Mike Dempsey! \nPerformances are December 6 and 7 at 7 p.m.\, December 8 at 2 p.m.\, December 13 and 14 at 7 p.m.\, and December 15 at 2 p.m. \nAdmission for adults is $12\, seniors (60+) $10\, child (12 & under) $5. Tickets are available at The Bandon Mercantile\, Sprague Theater box office\, and reservations can be made using the contact form at bandonplayhouse.org.
URL:https://bandonevents.org/event/a-bandon-christmas-carol/
LOCATION:Sprague Community Theater\, 1202 11th St SW\, Bandon\, OR\, 97411\, United States
CATEGORIES:History & Culture,Performing Arts
ATTACH;FMTTYPE=image/jpeg:https://bandonevents.org/wp-content/uploads/2019/11/cmascarol-playhouse.jpg
END:VEVENT
BEGIN:VEVENT
DTSTART;TZID=America/Los_Angeles:20191103T160000
DTEND;TZID=America/Los_Angeles:20191103T180000
DTSTAMP:20260420T233020
CREATED:20191029T221345Z
LAST-MODIFIED:20191029T221345Z
UID:10000327-1572796800-1572804000@bandonevents.org
SUMMARY:3rd Annual Art for Health
DESCRIPTION:Southern Coos Health Foundation is hosting their 3rd Annual Art for Health event which will be held 4 to 6 p.m.\, Sunday\, November 3\, at the Bandon Community Center. \nThe theme this year is the Healing Power of Art. Refreshments and music will be enjoyed and purchasers of tickets will be awarded a donated painting and listen to artist presentations. Tickets will be available at $35 each or 2 for $60. Call the Southern Coos Health Foundation office to reserve seats\, 541-329-1040. \nEach ticket holder will receive a piece of art through ticket raffle. There will also be a silent auction as well as local artists speaking of the health and healing benefits of art\, especially in a hospital setting. For more information about the event or how you could donate art\, contact Ava Richey at yarnfarm@frontier.com or by phone at 541-297-6118\, or Susan Lehman at studioblue@mycomspan.com or 541-347-9888.
URL:https://bandonevents.org/event/3rd-annual-art-for-health/
LOCATION:Bandon Community Center\, 1200 11th St SW\, Bandon\, OR\, 97411\, United States
CATEGORIES:Fundraiser,History & Culture
ATTACH;FMTTYPE=image/jpeg:https://bandonevents.org/wp-content/uploads/2019/10/artforhealth_skuddo2019.jpg
END:VEVENT
END:VCALENDAR